BEGIN:VCALENDAR
PRODID:-//github.com/rianjs/ical.net//NONSGML ical.net 2.1//EN
VERSION:2.0
BEGIN:VEVENT
DESCRIPTION:Přátelé tenisu zveme vás na třetí venkovní turnaj 2her Multili
 gy do Chrlic. Turnaj je určený pro začátečníky a mírně pokročilé hráče. M
 áme 6 - 8 kurtů\, každý hraje 5 setů/zápasů\, za stavu 5:5 tiebreak. Meda
 ile a poukázky do Sportobchodu pro nejlepší. Těšíme se na vás a na skvělo
 u zábavu. Vaše Multiliga.
DTEND:20230716T180000
DTSTAMP:20260423T095054
DTSTART:20230716T093000
LOCATION:Tenisový klub Chrlice
SEQUENCE:0
SUMMARY:Červencové Chrlice Open
UID:1cb500a6-0fdb-46a3-b7d0-2207b5fc6e2b
END:VEVENT
END:VCALENDAR
