BEGIN:VCALENDAR
PRODID:-//github.com/rianjs/ical.net//NONSGML ical.net 2.1//EN
VERSION:2.0
BEGIN:VEVENT
DESCRIPTION:Přátelé tenisu zveme vás na první venkovní turnaj 2her Multili
 gy do Chrlic. Turnaj je určený pro začátečníky a mírně pokročilé hráče. M
 áme 6 - 8 kurtů\, každý hraje 5 setů/zápasů\, za stavu 5:5 tiebreak. Meda
 ile a poukázky do Sportobchodu pro nejlepší. Těšíme se na vás a na skvělo
 u zábavu. Vaše Multiliga.
DTEND:20230521T180000
DTSTAMP:20260423T095228
DTSTART:20230521T093000
LOCATION:Tenisový klub Chrlice
SEQUENCE:0
SUMMARY:Květnové Chrlice Open - začátečníci a mírně pokročilí
UID:bc69edd1-5d8b-407b-a4c5-f874df8c9867
END:VEVENT
END:VCALENDAR
