BEGIN:VCALENDAR
PRODID:-//github.com/rianjs/ical.net//NONSGML ical.net 2.1//EN
VERSION:2.0
BEGIN:VEVENT
DESCRIPTION:Amatérský pingpongový miniturnaj započítaný do Amatérské pingp
 ongové ligy MULTILIGY. Miniturnaj je určený jak pro registrované hráče MU
 LTILIGY\, tak i pro ostatní příchozí hráče. Systém miniturnaje je upraven
  tak\, aby spolu mohli hrát hráči různých úrovní (i začátečníci).
DTEND:20260218T210000
DTSTAMP:20260419T105708
DTSTART:20260218T180000
LOCATION:Stolní tenis Slatina
SEQUENCE:0
SUMMARY:2. kolo pingpongové ligy 2026 - 2. miniturnaj
UID:5cfc2f31-2ba9-4a7d-8ff5-ba395cae0968
END:VEVENT
END:VCALENDAR
