BEGIN:VCALENDAR
PRODID:-//github.com/rianjs/ical.net//NONSGML ical.net 2.1//EN
VERSION:2.0
BEGIN:VEVENT
DESCRIPTION:Amatérský pingpongový miniturnaj započítaný do Amatérské pingp
 ongové ligy MULTILIGY. Miniturnaj je určený jak pro registrované hráče MU
 LTILIGY\, tak i pro ostatní příchozí hráče. Systém miniturnaje je upraven
  tak\, aby spolu mohli hrát hráči různých úrovní (i začátečníci).
DTEND:20260121T210000
DTSTAMP:20260419T105545
DTSTART:20260121T180000
LOCATION:Stolní tenis Slatina
SEQUENCE:0
SUMMARY:1. kolo pingpongové ligy 2026 - 2. miniturnaj
UID:585b80a5-1263-4a84-9a88-7f99d7641528
END:VEVENT
END:VCALENDAR
