BEGIN:VCALENDAR
PRODID:-//github.com/rianjs/ical.net//NONSGML ical.net 2.1//EN
VERSION:2.0
BEGIN:VEVENT
DESCRIPTION:Amatérský pingpongový miniturnaj započítaný do Amatérské pingp
 ongové ligy MULTILIGY. Miniturnaj je určený jak pro registrované hráče MU
 LTILIGY\, tak i pro ostatní příchozí hráče. Systém miniturnaje je upraven
  tak\, aby spolu mohli hrát hráči různých úrovní (i začátečníci).
DTEND:20240214T210000
DTSTAMP:20260420T182929
DTSTART:20240214T180000
LOCATION:Stolní tenis Slatina
SEQUENCE:0
SUMMARY:2. kolo Sportega pingpongové ligy 2024 - 3. miniturnaj - začáteční
 ci a mírně pokročílí
UID:9bbccf84-7d77-470a-9d8c-4e409a7e85fc
END:VEVENT
END:VCALENDAR
