BEGIN:VCALENDAR
PRODID:-//github.com/rianjs/ical.net//NONSGML ical.net 2.1//EN
VERSION:2.0
BEGIN:VEVENT
DESCRIPTION:Amatérský pingpongový miniturnaj započítaný do Amatérské pingp
 ongové ligy MULTILIGY. Miniturnaj je určený jak pro registrované hráče MU
 LTILIGY\, tak i pro ostatní příchozí hráče. Systém miniturnaje je upraven
  tak\, aby spolu mohli hrát hráči různých úrovní (i začátečníci).
DTEND:20230920T210000
DTSTAMP:20260419T220304
DTSTART:20230920T180000
LOCATION:Stolní tenis Slatina
SEQUENCE:0
SUMMARY:8. kolo Sportega pingpongové ligy 2023 - 3. miniturnaj - začáteční
 ci a mírně pokročílí
UID:01825c2b-d9e2-4cf2-96f4-6a76bbe973eb
END:VEVENT
END:VCALENDAR
