BEGIN:VCALENDAR
PRODID:-//github.com/rianjs/ical.net//NONSGML ical.net 2.1//EN
VERSION:2.0
BEGIN:VEVENT
DESCRIPTION:Zveme všechny fanoušky raketových sportů na amatérský mini-tur
 naj MULTILIGY v Pickleballu ve dvouhře - novém populárním raketovém sport
 u.\nRakety budou k zapůjčení\, s pravidly případně seznámíme \;) \nSraz v
  17:15\, konec cca 19:00.\nTěšíme se na Vás a skvělou zábavu. Vaše MULTIL
 IGA
DTEND:20251218T190000
DTSTAMP:20260423T070720
DTSTART:20251218T173000
LOCATION:ZŠ Jasanová Jundrov
SEQUENCE:0
SUMMARY:Pickleballový Turnaj ve dvouhře - 18.miniturnaj 2025
UID:f0a78c49-a147-4f1e-a544-e5a3721dd87e
END:VEVENT
END:VCALENDAR
