BEGIN:VCALENDAR
PRODID:-//github.com/rianjs/ical.net//NONSGML ical.net 2.1//EN
VERSION:2.0
BEGIN:VEVENT
DESCRIPTION:Zveme všechny fanoušky raketových sportů na amatérský mini-tur
 naj MULTILIGY v Pickleballu ve dvouhře - novém populárním raketovém sport
 u.\nRakety budou k zapůjčení\, s pravidly případně seznámíme \;) \nTurnaj
  může být rozdělený na dvě výkonnostní kategorie.\nSraz v 16:45\, konec c
 ca 19:00.\nTěšíme se na Vás a skvělou zábavu. Vaše MULTILIGA
DTEND:20251030T190000
DTSTAMP:20260423T052142
DTSTART:20251030T170000
LOCATION:ZŠ Jasanová Jundrov
SEQUENCE:0
SUMMARY:Pickleballový Turnaj ve dvouhře - 17.miniturnaj 2025
UID:d01ea106-3e0c-4848-8220-8efe338c4c1b
END:VEVENT
END:VCALENDAR
