BEGIN:VCALENDAR
PRODID:-//github.com/rianjs/ical.net//NONSGML ical.net 2.1//EN
VERSION:2.0
BEGIN:VEVENT
DESCRIPTION:Zveme všechny fanoušky raketových sportů na amatérský mini-tur
 naj MULTILIGY v Pickleballu ve dvouhře - novém populárním raketovém sport
 u.\nRakety budou k zapůjčení\, s pravidly případně seznámíme \;) \nTurnaj
  může být rozdělený na dvě výkonnostní kategorie.\nSraz v 16:45\, konec c
 ca 19:00.\nTěšíme se na Vás a skvělou zábavu. Vaše MULTILIGA
DTEND:20250411T190000
DTSTAMP:20260423T083353
DTSTART:20250411T170000
LOCATION:ZŠ Jasanová Jundrov
SEQUENCE:0
SUMMARY:Pickleballový Turnaj ve dvouhře - 11.miniturnaj 2025
UID:1129e06b-2f92-405f-8543-cac9b7e3bbf3
END:VEVENT
END:VCALENDAR
