BEGIN:VCALENDAR
PRODID:-//github.com/rianjs/ical.net//NONSGML ical.net 2.1//EN
VERSION:2.0
BEGIN:VEVENT
DESCRIPTION:Zveme všechny fanoušky raketových sportů na amatérský mini-tur
 naj MULTILIGY v Pickleballu ve dvouhře - novém populárním raketovém sport
 u.\nRakety budou k zapůjčení\, s pravidly případně seznámíme \;) \nTurnaj
  může být rozdělený na dvě výkonnostní kategorie.\nSraz v 17:15\, konec c
 ca 20:00.\nTěšíme se na Vás a skvělou zábavu. Vaše MULTILIGA
DTEND:20250228T200000
DTSTAMP:20260423T082644
DTSTART:20250228T173000
LOCATION:Arena Tesco Kr.pole
SEQUENCE:0
SUMMARY:Pickleballový Turnaj ve dvouhře - 5.miniturnaj 2025
UID:e38225b6-642c-4054-9a70-9b1e7a4abb7a
END:VEVENT
END:VCALENDAR
