BEGIN:VCALENDAR
PRODID:-//github.com/rianjs/ical.net//NONSGML ical.net 2.1//EN
VERSION:2.0
BEGIN:VEVENT
DESCRIPTION:Zveme všechny fanoušky raketových sportů na amatérský mini-tur
 naj MULTILIGY v Pickleballu ve dvouhře - novém populárním raketovém sport
 u.\nRakety budou k zapůjčení\, s pravidly případně seznámíme \;) \nTurnaj
  může být rozdělený na dvě výkonnostní kategorie.\nSraz v 17:15\, konec c
 ca 20:00.\nTěšíme se na Vás a skvělou zábavu. Vaše MULTILIGA
DTEND:20250124T200000
DTSTAMP:20260423T070540
DTSTART:20250124T173000
LOCATION:Arena Tesco Kr.pole
SEQUENCE:0
SUMMARY:Pickleballový Turnaj ve dvouhře - 2.miniturnaj 2025
UID:3d5e73d2-7520-46a9-ac66-4957c11f35c3
END:VEVENT
END:VCALENDAR
