BEGIN:VCALENDAR
PRODID:-//github.com/rianjs/ical.net//NONSGML ical.net 2.1//EN
VERSION:2.0
BEGIN:VEVENT
DESCRIPTION:Zveme všechny fanoušky raketových sportů na amatérský mini-tur
 naj MULTILIGY v Pickleballu ve dvouhře - novém populárním raketovém sport
 u.\nRakety budou k zapůjčení\, s pravidly případně seznámíme \;) \nTurnaj
  může být rozdělený na dvě výkonnostní kategorie.\nSraz v 17:15\, konec c
 ca 20:00.\nTěšíme se na Vás a skvělou zábavu. Vaše MULTILIGA
DTEND:20250117T200000
DTSTAMP:20260423T070713
DTSTART:20250117T173000
LOCATION:Arena Tesco Kr.pole
SEQUENCE:0
SUMMARY:Pickleballový Turnaj ve dvouhře - 1.miniturnaj 2025
UID:bab82098-61b3-4cd7-b443-209ee099304c
END:VEVENT
END:VCALENDAR
