BEGIN:VCALENDAR
PRODID:-//github.com/rianjs/ical.net//NONSGML ical.net 2.1//EN
VERSION:2.0
BEGIN:VEVENT
DESCRIPTION:Amatérský pingpongový miniturnaj započítaný do Amatérské pingp
 ongové ligy MULTILIGY. Miniturnaj je určený jak pro registrované hráče MU
 LTILIGY\, tak i pro ostatní příchozí hráče. Systém miniturnaje je upraven
  tak\, aby spolu mohli hrát hráči různých úrovní (i začátečníci).
DTEND:20240402T090000
DTSTAMP:20260423T084605
DTSTART:20240402T090000
LOCATION:DRAGON Vyškov - stolní tenis
SEQUENCE:0
SUMMARY:VyReST liga 1. ročník - 2. turnaj
UID:bc0ab5b4-ad58-4b9c-b7d9-d17e438b24f3
END:VEVENT
END:VCALENDAR
