BEGIN:VCALENDAR
PRODID:-//github.com/rianjs/ical.net//NONSGML ical.net 2.1//EN
VERSION:2.0
BEGIN:VEVENT
DESCRIPTION:Amatérský pingpongový miniturnaj započítaný do Amatérské pingp
 ongové ligy MULTILIGY. Miniturnaj je určený jak pro registrované hráče MU
 LTILIGY\, tak i pro ostatní příchozí hráče. Systém miniturnaje je upraven
  tak\, aby spolu mohli hrát hráči různých úrovní (i začátečníci).
DTEND:20240204T090000
DTSTAMP:20260423T102012
DTSTART:20240204T090000
LOCATION:DRAGON Vyškov - stolní tenis
SEQUENCE:0
SUMMARY:VyReST liga 1. ročník - 1. turnaj
UID:d5ffefb4-e66a-4b07-ac62-5e8bd3ddd70a
END:VEVENT
END:VCALENDAR
