BEGIN:VCALENDAR
PRODID:-//github.com/rianjs/ical.net//NONSGML ical.net 2.1//EN
VERSION:2.0
BEGIN:VEVENT
DESCRIPTION:MS SL4
DTEND:20240428T180000
DTSTAMP:20260422T102120
DTSTART:20240427T100000
LOCATION:BB Štěrboholy
SEQUENCE:0
SUMMARY:MS SL4
UID:3ba9c295-d0aa-498a-b036-94f8627bb80c
END:VEVENT
END:VCALENDAR
