BEGIN:VCALENDAR
PRODID:-//github.com/rianjs/ical.net//NONSGML ical.net 2.1//EN
VERSION:2.0
BEGIN:VEVENT
DESCRIPTION:Přátelé tenisu a Multiligy\, přijměte pozvání na předvánoční t
 enisový turnaj dvouher v Kohoutovicích. \nSraz 9:30 od 10 hrajem.\nNa čty
 řech antukových kurtech\, každý hráč odehraje 5 kol/setů\, 5:5 TB. V ceně
  startovného je drobné občerstvení a ceny pro nejlepších 6. Poháry\, meda
 ile a poukázky do Sportobchodu. Míče Wilson RG. Výsledky budou prezentová
 ny on-line. Těšíme se na vás a skvělou tenisovou zábavu.
DTEND:20211218T180000
DTSTAMP:20260422T185822
DTSTART:20211218T093000
LOCATION:Sportovní areál TennisLinden
SEQUENCE:0
SUMMARY:Předvánoční 2hry v Kohoutkách
UID:a348d9a5-ca5b-4100-b65e-42e36a5b5cc8
END:VEVENT
END:VCALENDAR
