BEGIN:VCALENDAR
PRODID:-//github.com/rianjs/ical.net//NONSGML ical.net 2.1//EN
VERSION:2.0
BEGIN:VEVENT
DESCRIPTION:Přátelé tenisu zveme vás na první zímní turnaj 2her Multiligy.
  Po delší době hrajeme v tenisové hale Sprint s možnoství využít až 6 kur
 tů. Již klasicky každý hráč odehraje 5 setů/zápasů\, za stavu 5:5 tiebrea
 k. Medaile a poukázky do Sportobchodu pro nejlepší. Míče Wilson RG. Těším
 e se na vás a na skvělou zábavu. Vaše Multiliga.\n
DTEND:20211030T180000
DTSTAMP:20260422T173130
DTSTART:20211030T093000
LOCATION:Tenisová a badmintonová hala Sprint
SEQUENCE:0
SUMMARY:Říjnové singly ve Sprintu
UID:8a96c5c4-19bb-4c3f-8aac-d4fb176af7d8
END:VEVENT
END:VCALENDAR
