BEGIN:VCALENDAR
PRODID:-//github.com/rianjs/ical.net//NONSGML ical.net 2.1//EN
VERSION:2.0
BEGIN:VEVENT
DESCRIPTION:Přátelé tenisu zveme vás na druhý turnaj 2her Multiligy do Chr
 lic. Máme 6 - 8 kurtů\, každý hraje 5 setů/zápasů\, za stavu 5:5 tiebreak
 . Medaile a poukázky do Sportobchodu pro nejlepší. Míče Wilson RG. Těšíme
  se na vás a na skvělou zábavu. Vaše Multiliga.\n
DTEND:20210912T180000
DTSTAMP:20260422T190310
DTSTART:20210912T093000
LOCATION:Tenisový klub Chrlice
SEQUENCE:0
SUMMARY:Zářijové Chrlice Open
UID:6743a075-bfac-42f5-8172-70abbd11d62b
END:VEVENT
END:VCALENDAR
