BEGIN:VCALENDAR
PRODID:-//github.com/rianjs/ical.net//NONSGML ical.net 2.1//EN
VERSION:2.0
BEGIN:VEVENT
DESCRIPTION:Přátelé MULTILIGY a tenisu\,\nzveme vás na první "Postpandemic
 ký OPEN" turnaj dvouher na Kraví hoře.\nSraz v 9:29 od 10 h hrajeme švýca
 rským systémem na 5 kol.\nBude-li  více Žen\, či hráčů stejné úrovně\, mů
 že být turnaj rozdělen na dva a více.\nÚčastí na turnaji souhlasíte s lik
 vidací virů a bakterií.\nStartujete na vlastní nebezpečí.\nZavazujete se 
 dodržovat bezpečnostní a hygienická nařízení vlády.\nTěšíme se na vás a s
 kvělou zábavu. Multiliga a Tenis Kraví hora.
DTEND:20200516T180000
DTSTAMP:20260421T065803
DTSTART:20200516T092900
LOCATION:Tenisový areál Kraví hora
SEQUENCE:0
SUMMARY:Covid OUT Fit
UID:90684e93-7f4c-4fe1-a395-ea44029b95f7
END:VEVENT
END:VCALENDAR
