BEGIN:VCALENDAR
PRODID:-//github.com/rianjs/ical.net//NONSGML ical.net 2.1//EN
VERSION:2.0
BEGIN:VEVENT
DESCRIPTION:Přijměte pozvání na turnaj dvouher série Sportobchod Cup 2020.
  Na čtyřech antukových kurtech v Kohoutovicích\, hrajeme na jeden set v p
 ěti kolech. Za stavu 5:5 tie break.. Sraz v 9:30 h. V ceně startovného je
  drobné občerstvení\, polévka\, domácí pomazánka\, pečivo\, loupáčky nebo
  bábovka. Ceny a trofeje\, pro nejlepší. Těšíme se na Vás a skvělou zábav
 u !!!
DTEND:20200307T180000
DTSTAMP:20260421T071738
DTSTART:20200307T093000
LOCATION:Sportovní areál TennisLinden
SEQUENCE:0
SUMMARY:Dvouhry MULTILIGY v Kohoutovicích
UID:ff3dba66-9b4e-49b3-a54f-46c6ffafee39
END:VEVENT
END:VCALENDAR
