BEGIN:VCALENDAR
PRODID:-//github.com/rianjs/ical.net//NONSGML ical.net 2.1//EN
VERSION:2.0
BEGIN:VEVENT
DESCRIPTION:Přátelé MULTILIGY a tenisu. \nPřijměte pozvání na letos posled
 ní turnaj dvouher série Sportobchod Cup 2019.\nNa čtyřech antukových kurt
 ech v Kohoutovicích\, hrajeme na jeden set v pěti kolech.\nZa stavu 5:5 t
 ie break.. Sraz v 9:33 h. \nV ceně startovného je polévka\, domácí pomazá
 nka\, pečivo\, loupáčky a bábovka.\nCeny a medaile\, pro nejlepších 6 hrá
 čů a nejlepší ženu.\nTěšíme se na Vás a skvělou zábavu !!!
DTEND:20191228T180000
DTSTAMP:20260423T063413
DTSTART:20191228T093300
LOCATION:Sportovní areál TennisLinden
SEQUENCE:0
SUMMARY:Dvouhry MULTILIGY v Kohoutovicích
UID:88c4cebc-8d62-44db-9cfa-6afc68513620
END:VEVENT
END:VCALENDAR
