BEGIN:VCALENDAR
PRODID:-//github.com/rianjs/ical.net//NONSGML ical.net 2.1//EN
VERSION:2.0
BEGIN:VEVENT
DESCRIPTION:Amatérský pingpongový miniturnaj započítaný do Amatérské pingp
 ongové ligy MULTILIGY. Miniturnaj je určený jak pro registrované hráče MU
 LTILIGY\, tak i pro ostatní příchozí hráče. Systém miniturnaje je upraven
  tak\, aby spolu mohli hrát hráči různých úrovní (i začátečníci).
DTEND:20240410T210000
DTSTAMP:20260424T162333
DTSTART:20240410T180000
LOCATION:Stolní tenis Slatina
SEQUENCE:0
SUMMARY:4. kolo Sportega pingpongové ligy 2024 - 2. miniturnaj
UID:62c1e107-c6ba-4a40-a595-5c2a7e9ef89a
END:VEVENT
END:VCALENDAR
