BEGIN:VCALENDAR
PRODID:-//github.com/rianjs/ical.net//NONSGML ical.net 2.1//EN
VERSION:2.0
BEGIN:VEVENT
DESCRIPTION:Amatérský pingpongový miniturnaj započítaný do Amatérské pingp
 ongové ligy MULTILIGY. Miniturnaj je určený jak pro registrované hráče MU
 LTILIGY\, tak i pro ostatní příchozí hráče. Systém miniturnaje je upraven
  tak\, aby spolu mohli hrát hráči různých úrovní (i začátečníci).
DTEND:20230118T210000
DTSTAMP:20260420T050615
DTSTART:20230118T180000
LOCATION:Stolní tenis Slatina
SEQUENCE:0
SUMMARY:1. kolo Sportega pingpongové ligy 2023 - 3. miniturnaj - začáteční
 ci a mírně pokročílí
UID:5ddecb38-e9f9-4e4b-9082-206020f2d975
END:VEVENT
END:VCALENDAR
