BEGIN:VCALENDAR
PRODID:-//github.com/rianjs/ical.net//NONSGML ical.net 2.1//EN
VERSION:2.0
BEGIN:VEVENT
DESCRIPTION:Amatérský pingpongový miniturnaj započítaný do Amatérské pingp
 ongové ligy MULTILIGY. Miniturnaj je určený jak pro registrované hráče MU
 LTILIGY\, tak i pro ostatní příchozí hráče. Systém miniturnaje je upraven
  tak\, aby spolu mohli hrát hráči různých úrovní (i začátečníci). Dezinfe
 kce připravena :-)
DTEND:20211108T210000
DTSTAMP:20260420T213708
DTSTART:20211108T180000
LOCATION:Stolní tenis Slatina
SEQUENCE:0
SUMMARY:5. kolo pingpongové ligy 2021 - 2. miniturnaj
UID:7b150849-e265-40ec-9ac5-9991c2c6f4ec
END:VEVENT
END:VCALENDAR
