BEGIN:VCALENDAR
PRODID:-//github.com/rianjs/ical.net//NONSGML ical.net 2.1//EN
VERSION:2.0
BEGIN:VEVENT
DESCRIPTION:Amatérský pingpongový miniturnaj započítaný do Amatérské pingp
 ongové ligy MULTILIGY. Miniturnaj je určený jak pro registrované hráče MU
 LTILIGY\, tak i pro ostatní příchozí hráče. Systém miniturnaje je upraven
  tak\, aby spolu mohli hrát hráči různých úrovní (i začátečníci). Dezinfe
 kce připravena :-)
DTEND:20211025T210000
DTSTAMP:20260420T213805
DTSTART:20211025T180000
LOCATION:Stolní tenis Slatina
SEQUENCE:0
SUMMARY:4. kolo pingpongové ligy 2021 - 4. miniturnaj
UID:f9c19523-dbba-4b95-b36f-e5c56b55e5a9
END:VEVENT
END:VCALENDAR
