BEGIN:VCALENDAR
PRODID:-//github.com/rianjs/ical.net//NONSGML ical.net 2.1//EN
VERSION:2.0
BEGIN:VEVENT
DESCRIPTION:Amatérský pingpongový miniturnaj započítaný do Amatérské pingp
 ongové ligy MULTILIGY. Miniturnaj je určený jak pro registrované hráče MU
 LTILIGY\, tak i pro ostatní příchozí hráče. Systém miniturnaje je upraven
  tak\, aby spolu mohli hrát hráči různých úrovní (i začátečníci). Dezinfe
 kce připravena :-)
DTEND:20210809T210000
DTSTAMP:20260420T213929
DTSTART:20210809T180000
LOCATION:Stolní tenis Slatina
SEQUENCE:0
SUMMARY:2. kolo pingpongové ligy 2021 - 1. miniturnaj
UID:36d45314-d9c5-4883-ba1f-5a8347dfc21f
END:VEVENT
END:VCALENDAR
