BEGIN:VCALENDAR
PRODID:-//github.com/rianjs/ical.net//NONSGML ical.net 2.1//EN
VERSION:2.0
BEGIN:VEVENT
DESCRIPTION:Amatérský pingpongový miniturnaj započítaný do Amatérské pingp
 ongové ligy MULTILIGY. Miniturnaj je určený jak pro registrované hráče MU
 LTILIGY\, tak i pro ostatní příchozí hráče. Systém miniturnaje je upraven
  tak\, aby spolu mohli hrát hráči různých úrovní (i začátečníci).
DTEND:20210726T210000
DTSTAMP:20260420T213857
DTSTART:20210726T180000
LOCATION:Stolní tenis Slatina
SEQUENCE:0
SUMMARY:1. kolo pingpongové ligy 2021 - 3. miniturnaj
UID:d346b49f-7c37-478c-b116-648bc05210c1
END:VEVENT
END:VCALENDAR
