BEGIN:VCALENDAR
PRODID:-//github.com/rianjs/ical.net//NONSGML ical.net 2.1//EN
VERSION:2.0
BEGIN:VEVENT
DESCRIPTION:Amatérský pingpongový miniturnaj započítaný do Amatérské pingp
 ongové ligy MULTILIGY. Miniturnaj je určený jak pro registrované hráče MU
 LTILIGY\, tak i pro ostatní příchozí hráče. Systém miniturnaje je upraven
  tak\, aby spolu mohli hrát hráči různých úrovní (i začátečníci). Dezinfe
 kce připravena :-)
DTEND:20210628T210000
DTSTAMP:20260420T214044
DTSTART:20210628T180000
LOCATION:Stolní tenis Slatina
SEQUENCE:0
SUMMARY:1. kolo pingpongové ligy 2021 - 1. miniturnaj
UID:2263f39e-0771-4e10-bd81-a4617acd2c11
END:VEVENT
END:VCALENDAR
