BEGIN:VCALENDAR
PRODID:-//github.com/rianjs/ical.net//NONSGML ical.net 2.1//EN
VERSION:2.0
BEGIN:VEVENT
DESCRIPTION:Amatérský pingpongový miniturnaj započítaný do Amatérské pingp
 ongové ligy MULTILIGY. Miniturnaj je určený jak pro registrované hráče MU
 LTILIGY\, tak i pro ostatní příchozí hráče. Systém miniturnaje je upraven
  tak\, aby spolu mohli hrát hráči různých úrovní (i začátečníci). PLATBA 
 STARTOVNÉHO pouze v hotovosti na místě. \n\nZahájení turnaje v 18:00. Nic
 méně tolerovaný příchod je stále i v 18:30.
DTEND:20190603T210000
DTSTAMP:20260420T234310
DTSTART:20190603T180000
LOCATION:Stolní tenis Slatina
SEQUENCE:0
SUMMARY:6. kolo pingpongové ligy 2019 - 1. miniturnaj
UID:93ec8bcc-438d-47ec-b8a7-5daacb4692ba
END:VEVENT
END:VCALENDAR
