BEGIN:VCALENDAR
PRODID:-//github.com/rianjs/ical.net//NONSGML ical.net 2.1//EN
VERSION:2.0
BEGIN:VEVENT
DESCRIPTION:Amatérský pingpongový miniturnaj započítaný do Amatérské pingp
 ongové ligy MULTILIGY. Miniturnaj je určený jak pro registrované hráče MU
 LTILIGY\, tak i pro ostatní příchozí hráče. Systém miniturnaje je upraven
  tak\, aby spolu mohli hrát hráči různých úrovní (i začátečníci). PLATBA 
 STARTOVNÉHO pouze v hotovosti na místě.
DTEND:20180220T210000
DTSTAMP:20260420T034521
DTSTART:20180220T183000
LOCATION:Stolní tenis Slatina
SEQUENCE:0
SUMMARY:2. kolo pingpongové ligy 2018 - 3. miniturnaj
UID:4a27e9c4-2ba8-4eb6-b5e6-784d3fbe8872
END:VEVENT
END:VCALENDAR
