BEGIN:VCALENDAR
PRODID:-//github.com/rianjs/ical.net//NONSGML ical.net 2.1//EN
VERSION:2.0
BEGIN:VEVENT
DESCRIPTION:Místo: Pinec Brno\, Náměstí SNP 1140/32\, Brno - Černá Pole (h
 ttp://pinec-brno.webnode.cz/kudy-k-nam/). \n\nMax. 24 hráčů\, registrace 
 je otevřená pro větší počet účastníků = náhradníky.
DTEND:20150113T210000
DTSTAMP:20260421T213439
DTSTART:20150113T180000
LOCATION:Pinec Brno (SNP)
SEQUENCE:0
SUMMARY:1. kolo Amatérské pingpongové ligy 2015 - 1. miniturnaj
UID:80d9efe6-368e-41b7-931c-c1eb52b38d50
END:VEVENT
END:VCALENDAR
