BEGIN:VCALENDAR
PRODID:-//github.com/rianjs/ical.net//NONSGML ical.net 2.1//EN
VERSION:2.0
BEGIN:VEVENT
DESCRIPTION:9. kolo Amatérské pingpongové ligy - 2. miniturnaj
DTEND:20140918T020000
DTSTAMP:20260422T230823
DTSTART;VALUE=DATE:20140918
LOCATION:Stolní Tenis & Hravý Bar
SEQUENCE:0
SUMMARY:9. kolo Amatérské pingpongové ligy - 2. miniturnaj
UID:32e64301-309d-4a59-861d-69b23a2632a0
END:VEVENT
END:VCALENDAR
