BEGIN:VCALENDAR
PRODID:-//github.com/rianjs/ical.net//NONSGML ical.net 2.1//EN
VERSION:2.0
BEGIN:VEVENT
DESCRIPTION:Popis pro turnaj StolniTenisHravyBar-26082014
DTEND:20140826T020000
DTSTAMP:20260423T010713
DTSTART;VALUE=DATE:20140826
LOCATION:Stolní Tenis & Hravý Bar
SEQUENCE:0
SUMMARY:8. kolo Amatérské pingpongové ligy - 2. miniturnaj
UID:4305d622-cc0c-40bf-9bee-a68878a80653
END:VEVENT
END:VCALENDAR
