BEGIN:VCALENDAR
PRODID:-//github.com/rianjs/ical.net//NONSGML ical.net 2.1//EN
VERSION:2.0
BEGIN:VEVENT
DESCRIPTION:6. kolo Amatérské pingpongové ligy - 1. miniturnaj
DTEND:20140603T020000
DTSTAMP:20260423T010914
DTSTART;VALUE=DATE:20140603
LOCATION:Ping-pong Brno (Táborská)
SEQUENCE:0
SUMMARY:6. kolo Amatérské pingpongové ligy - 1. miniturnaj
UID:dc8e6300-03af-4f70-afbe-66094ef293d7
END:VEVENT
END:VCALENDAR
