BEGIN:VCALENDAR
PRODID:-//github.com/rianjs/ical.net//NONSGML ical.net 2.1//EN
VERSION:2.0
BEGIN:VEVENT
DESCRIPTION:4. kolo Amatérské pingpongové ligy - 1. miniturnaj
DTEND:20140417T020000
DTSTAMP:20260423T010857
DTSTART;VALUE=DATE:20140417
LOCATION:Stolní Tenis & Hravý Bar
SEQUENCE:0
SUMMARY:4. kolo Amatérské pingpongové ligy - 1. miniturnaj
UID:d9373c7d-5911-4d55-b179-62b13bbf64a2
END:VEVENT
END:VCALENDAR
