BEGIN:VCALENDAR
PRODID:-//github.com/rianjs/ical.net//NONSGML ical.net 2.1//EN
VERSION:2.0
BEGIN:VEVENT
DESCRIPTION:3. kolo Amatérské pingpongové ligy - 1. miniturnaj
DTEND:20140311T020000
DTSTAMP:20260423T010919
DTSTART;VALUE=DATE:20140311
LOCATION:Stolní Tenis & Hravý Bar
SEQUENCE:0
SUMMARY:3. kolo Amatérské pingpongové ligy - 1. miniturnaj
UID:6d363a78-28f7-4fcb-a28e-e4ea341f2419
END:VEVENT
END:VCALENDAR
