BEGIN:VCALENDAR
PRODID:-//github.com/rianjs/ical.net//NONSGML ical.net 2.1//EN
VERSION:2.0
BEGIN:VEVENT
DESCRIPTION:2. kolo Amatérské pingpongové ligy - 2. miniturnaj
DTEND:20140225T020000
DTSTAMP:20260423T010539
DTSTART;VALUE=DATE:20140225
LOCATION:Ping-pong Brno (Táborská)
SEQUENCE:0
SUMMARY:2. kolo Amatérské pingpongové ligy - 2. miniturnaj
UID:9ecb4444-2458-4ca6-b397-9fd6d5b054d7
END:VEVENT
END:VCALENDAR
