BEGIN:VCALENDAR
PRODID:-//github.com/rianjs/ical.net//NONSGML ical.net 2.1//EN
VERSION:2.0
BEGIN:VEVENT
DESCRIPTION:2. kolo Amatérské pingpongové ligy - 1. miniturnaj
DTEND:20140220T020000
DTSTAMP:20260423T010750
DTSTART;VALUE=DATE:20140220
LOCATION:Stolní Tenis & Hravý Bar
SEQUENCE:0
SUMMARY:2. kolo Amatérské pingpongové ligy - 1. miniturnaj
UID:8935c741-bf55-44c3-a797-8c8e1e89e458
END:VEVENT
END:VCALENDAR
