BEGIN:VCALENDAR
PRODID:-//github.com/rianjs/ical.net//NONSGML ical.net 2.1//EN
VERSION:2.0
BEGIN:VEVENT
DESCRIPTION:Popis pro turnaj PingpongBrno-28012014
DTEND:20140128T020000
DTSTAMP:20260423T010837
DTSTART;VALUE=DATE:20140128
LOCATION:Zone4You
SEQUENCE:0
SUMMARY:1. kolo Amatérské pingpongové ligy - 2. miniturnaj
UID:a022a422-27a7-4a2b-8e2b-efa7f4e704cf
END:VEVENT
END:VCALENDAR
