BEGIN:VCALENDAR
PRODID:-//github.com/rianjs/ical.net//NONSGML ical.net 2.1//EN
VERSION:2.0
BEGIN:VEVENT
DESCRIPTION:1. kolo Amatérské pingpongové ligy - 1. miniturnaj
DTEND:20140116T020000
DTSTAMP:20260423T011006
DTSTART;VALUE=DATE:20140116
LOCATION:Stolní Tenis & Hravý Bar
SEQUENCE:0
SUMMARY:1. kolo Amatérské pingpongové ligy - 1. miniturnaj
UID:69925b50-bd2d-4654-8bc3-6e1a441c0ca5
END:VEVENT
END:VCALENDAR
