BEGIN:VCALENDAR
PRODID:-//github.com/rianjs/ical.net//NONSGML ical.net 2.1//EN
VERSION:2.0
BEGIN:VEVENT
DESCRIPTION:!!! Pozvánky do tohoto miniturnaje by ještě odeslány z kalendá
 ře. \nDo turnaje se registruje odpovědí na kalendářní pozvánku !!!\n\n
DTEND:20141216T210000
DTSTAMP:20260423T024148
DTSTART:20141216T180000
LOCATION:Stolní Tenis & Hravý Bar
SEQUENCE:0
SUMMARY:12. kolo Amatérské pingpongové ligy - 2. miniturnaj
UID:396f4e75-0d2e-4fc6-8cdf-43533d7f21da
END:VEVENT
END:VCALENDAR
