BEGIN:VCALENDAR
PRODID:-//github.com/rianjs/ical.net//NONSGML ical.net 2.1//EN
VERSION:2.0
BEGIN:VEVENT
DESCRIPTION:!!! Pozvánky do tohoto miniturnaje by ještě odeslány z kalendá
 ře. \nDo turnaje se registruje odpovědí na kalendářní pozvánku !!!\n
DTEND:20141209T210000
DTSTAMP:20260423T010622
DTSTART:20141209T180000
LOCATION:Ping-pong Brno (Táborská)
SEQUENCE:0
SUMMARY:12. kolo Amatérské pingpongové ligy - 1. miniturnaj
UID:256c7b19-c1dc-4025-9fa9-3d69df481a59
END:VEVENT
END:VCALENDAR
