BEGIN:VCALENDAR
PRODID:-//github.com/rianjs/ical.net//NONSGML ical.net 2.1//EN
VERSION:2.0
BEGIN:VEVENT
DESCRIPTION:Popis pro turnaj pinec-11kolo-2
DTEND:20141127T020000
DTSTAMP:20260423T010508
DTSTART;VALUE=DATE:20141127
LOCATION:Stolní Tenis & Hravý Bar
SEQUENCE:0
SUMMARY:pinec-11kolo-2
UID:e824163a-4c63-4be9-95fb-6509428dab0b
END:VEVENT
END:VCALENDAR
