BEGIN:VCALENDAR
PRODID:-//github.com/rianjs/ical.net//NONSGML ical.net 2.1//EN
VERSION:2.0
BEGIN:VEVENT
DESCRIPTION:10. kolo Amatérské pingpongové ligy - 2. miniturnaj
DTEND:20141030T020000
DTSTAMP:20260423T010442
DTSTART;VALUE=DATE:20141030
LOCATION:Stolní Tenis & Hravý Bar
SEQUENCE:0
SUMMARY:10. kolo Amatérské pingpongové ligy - 2. miniturnaj
UID:4a909368-f308-4c6b-8c81-b09e18f331b7
END:VEVENT
END:VCALENDAR
