BEGIN:VCALENDAR
PRODID:-//github.com/rianjs/ical.net//NONSGML ical.net 2.1//EN
VERSION:2.0
BEGIN:VEVENT
DESCRIPTION:TURNAJ MUŽŮ V DEBLU
DTEND:20260208T180000
DTSTAMP:20260419T104056
DTSTART:20260208T083000
LOCATION:ZŠ Jasanová Jundrov
SEQUENCE:0
SUMMARY:TEST BRNO WINTER CLASSIC Joola Pickleball Tour Brno 500
UID:af70bbce-abd0-4301-90be-b289ae1a00c5
END:VEVENT
END:VCALENDAR
