BEGIN:VCALENDAR
PRODID:-//github.com/rianjs/ical.net//NONSGML ical.net 2.1//EN
VERSION:2.0
BEGIN:VEVENT
DESCRIPTION:TURNAJ MUŽŮ V DEBLU
DTEND:20260208T180000
DTSTAMP:20260419T104445
DTSTART:20260208T120000
LOCATION:ZŠ Jasanová Jundrov
SEQUENCE:0
SUMMARY:BRNO WINTER CLASSIC Joola Pickleball Tour Brno 500 - Čtyřhra POUZE
  PRO REGISTRACI
UID:fc4fc05a-bb79-4f13-a0a1-6bcbeaddc9e0
END:VEVENT
END:VCALENDAR
