BEGIN:VCALENDAR
PRODID:-//github.com/rianjs/ical.net//NONSGML ical.net 2.1//EN
VERSION:2.0
BEGIN:VEVENT
DESCRIPTION:Zveme všechny fanoušky raketových sportů na amatérský mini-tur
 naj MULTILIGY v Pickleballu ve dvouhře - novém populárním raketovém sport
 u.\nRakety budou k zapůjčení\, s pravidly případně seznámíme \;) \nSraz v
  17:15\, konec cca 19:00.\nTěšíme se na Vás a skvělou zábavu. Vaše MULTIL
 IGA
DTEND:20260205T190000
DTSTAMP:20260419T105125
DTSTART:20260205T173000
LOCATION:ZŠ Jasanová Jundrov
SEQUENCE:0
SUMMARY:Pickleballový Turnaj ve dvouhře - 1.miniturnaj 2026
UID:094b7649-2d15-4821-bd11-e541df30e930
END:VEVENT
END:VCALENDAR
