BEGIN:VCALENDAR
PRODID:-//github.com/rianjs/ical.net//NONSGML ical.net 2.1//EN
VERSION:2.0
BEGIN:VEVENT
DESCRIPTION:Zveme všechny fanoušky raketových sportů na amatérský mini-tur
 naj MULTILIGY v Pickleballu ve dvouhře - novém populárním raketovém sport
 u.\nRakety budou k zapůjčení\, s pravidly případně seznámíme \;) \nTurnaj
  může být rozdělený na dvě výkonnostní kategorie.\nSraz v 16:45\, konec c
 ca 19:00.\nTěšíme se na Vás a skvělou zábavu. Vaše MULTILIGA
DTEND:20250314T190000
DTSTAMP:20260421T034335
DTSTART:20250314T170000
LOCATION:Arena Tesco Kr.pole
SEQUENCE:0
SUMMARY:Pickleballový Turnaj ve dvouhře - 7.miniturnaj 2025
UID:7823a3fa-4d0c-49e8-8266-fd5379e639d1
END:VEVENT
END:VCALENDAR
