BEGIN:VCALENDAR
PRODID:-//github.com/rianjs/ical.net//NONSGML ical.net 2.1//EN
VERSION:2.0
BEGIN:VEVENT
DESCRIPTION:Oteřený turnaj ve speed badmintonu na písku. Systém turnaje je
  uzpůsobený tak\, aby si zahráli i ti\, kdo budou hrát speed badminton úp
 lně poprvé\, stejně jako i ostřílení borci. K dispozici budou rakety na z
 apůjčení.\nMísto: Lucky Beach Brno.\nDatum a čas: 9.8.2015\, 10:00 - max.
  15:00\nCena: 300 Kč při platbě na účet\, 350 Kč při platbě na místě.\n(p
 latba na účet: účet č. 2000187572/2010\, VS 20150809\, poznámka: přezdívk
 a)
DTEND:20150809T150000
DTSTAMP:20260424T192751
DTSTART:20150809T100000
LOCATION:Lucky Beach Brno
SEQUENCE:0
SUMMARY:Otevřený turnaj ve speed badmintonu na písku - kategorie muži
UID:5643d8b3-7d6f-4b48-8b0a-d6d9a9527ca9
END:VEVENT
END:VCALENDAR
