BEGIN:VCALENDAR
PRODID:-//github.com/rianjs/ical.net//NONSGML ical.net 2.1//EN
VERSION:2.0
BEGIN:VEVENT
DESCRIPTION:Turnaj je sloučen s kategorií "drtiči".
DTEND:20190609T150000
DTSTAMP:20260424T063202
DTSTART:20190609T100000
LOCATION:Sportcentrum Kuklenská
SEQUENCE:0
SUMMARY:SportObchod MULTILIGA Badminton Cup - kategorie čtyřhry "hobíci"
UID:af3ac4c9-3498-46f6-acc8-476e5b152a7b
END:VEVENT
END:VCALENDAR
